BEGIN:VCALENDAR
VERSION:2.0
PRODID:-//AudioTheme 2.0.0
BEGIN:VEVENT
UID:urn:uuid:ebd6ad5f-0e14-4476-b6fa-2e34bf6b11a3
URL:https://allhailmusic.dawsoninteractive.com/shows/gig-227/
DTSTART;TZID=GMT:20170714T000000
SUMMARY:hi hat
LOCATION:hi hat\, los angeles\, ca
END:VEVENT
END:VCALENDAR
