BEGIN:VCALENDAR
VERSION:2.0
PRODID:-//AudioTheme 2.0.0
BEGIN:VEVENT
UID:urn:uuid:8b77679d-7f1a-4cd8-be40-a2f08456891d
URL:https://allhailmusic.dawsoninteractive.com/shows/rickshaw-stop-2/
DTSTART;VALUE=DATE:20170312
SUMMARY:rickshaw stop
LOCATION:rickshaw stop\, san fransico\, ca
END:VEVENT
END:VCALENDAR
