BEGIN:VCALENDAR
VERSION:2.0
PRODID:-//AudioTheme 2.0.0
BEGIN:VEVENT
UID:urn:uuid:0322ef33-297c-44b7-b52b-3ed03df111c0
URL:https://allhailmusic.dawsoninteractive.com/shows/the-echo-2/
DTSTART;VALUE=DATE:20170311
SUMMARY:the echo
LOCATION:the echo\, los angeles\, ca
END:VEVENT
END:VCALENDAR
