BEGIN:VCALENDAR
VERSION:2.0
PRODID:-//AudioTheme 2.0.0
BEGIN:VEVENT
UID:urn:uuid:f29f9e0f-5578-4bb7-8578-59aed46a554d
URL:https://allhailmusic.dawsoninteractive.com/shows/the-echo/
DTSTART;TZID=GMT:20170107T000000
SUMMARY:the echo
LOCATION:the echo\, los angeles\, ca
END:VEVENT
END:VCALENDAR
