BEGIN:VCALENDAR
VERSION:2.0
PRODID:-//AudioTheme 2.0.0
BEGIN:VEVENT
UID:urn:uuid:8fc39d10-4976-4533-990b-7a4887af14b8
URL:https://allhailmusic.dawsoninteractive.com/shows/the-sunset-tavern-2/
DTSTART;VALUE=DATE:20170316
SUMMARY:the sunset tavern
LOCATION:the sunset tavern\, seattle\, wa
END:VEVENT
END:VCALENDAR
