BEGIN:VCALENDAR
VERSION:2.0
PRODID:-//AudioTheme 2.0.0
BEGIN:VEVENT
UID:urn:uuid:cda915e9-20eb-4036-93b1-10035cc5fa26
URL:https://allhailmusic.dawsoninteractive.com/shows/the-sunset-tavern/
DTSTART;VALUE=DATE:20170110
SUMMARY:the sunset tavern
LOCATION:the sunset tavern\, seattle\, wa
END:VEVENT
END:VCALENDAR
