BEGIN:VCALENDAR
VERSION:2.0
PRODID:-//AudioTheme 2.0.0
BEGIN:VEVENT
UID:urn:uuid:285ea553-16e3-4c64-a0da-9af78793d4ab
URL:https://allhailmusic.dawsoninteractive.com/shows/webster-hall/
DTSTART;VALUE=DATE:20170318
SUMMARY:webster hall
LOCATION:webster hall\, new york city\, nyc
END:VEVENT
END:VCALENDAR
